BEGIN:VCALENDAR
VERSION:2.0
PRODID:-//chikkutakku.com//RDFCal 1.0//EN
X-WR-CALDESC:GoogleカレンダーやiCalendar形式情報を共有シェ
 アしましょう。近所のイベントから全国のイベントま
 で今日のイベント検索やスケジュールを決めるならち
 っくたっく
X-WR-CALNAME:ちっくたっく
X-WR-TIMEZONE:UTC
BEGIN:VEVENT
SUMMARY: 技高部2026國際教育旅行帶團老師會議
DTSTART;VALUE=DATE-TIME:20260424T031500Z
DTEND;VALUE=DATE-TIME:20260424T040000Z
UID:148942006624
DESCRIPTION:技高部2026國際教育旅行帶團老師會議\n日期：11
 5年04月24日(五)\n時間：第四節課(11:15~12:00)\n地點：技高
 第二間會議室\n與會人員：陳士虹主任、鍾季錚組長\n技
 高英法團(17位)：魏美惠老師、施佩汝老師\n資電福井團(1
 6位)：陳士虹主任、林芳瑜老師\n設計金澤團(37位)：張妤
 甄老師、劉玟希老師\n餐旅和菓子團(18位)：鄭雅如老師
 、石家玲老師\n\n通过 Google Meet 加入：https://meet.google.com/
 dmu-hbpt-sve\n或者拨打以下号码：(US) +1 337-886-5278 PIN 码： 8
 09457773#\n\n如需详细了解 Google Meet，请访问：https://support.
 google.com/a/users/answer/9282720
LOCATION:技高第二間會議室
END:VEVENT
END:VCALENDAR
