BEGIN:VCALENDAR
VERSION:2.0
PRODID:-//chikkutakku.com//RDFCal 1.0//EN
X-WR-CALDESC:GoogleカレンダーやiCalendar形式情報を共有シェ
 アしましょう。近所のイベントから全国のイベントま
 で今日のイベント検索やスケジュールを決めるならち
 っくたっく
X-WR-CALNAME:ちっくたっく
X-WR-TIMEZONE:UTC
BEGIN:VEVENT
SUMMARY:【楽天ブックス限定先着特典】部屋とガラクタと
 私(品目未定)
DTSTART;VALUE=DATE:20260512
DTEND;VALUE=DATE:20260513
UID:149019158133
DESCRIPTION:2026-05-13【楽天ブックス限定先着特典】部屋と
 ガラクタと私(品目未定)ミーマイナー(株)ソニー・ミュ
 ージックレーベルズ
LOCATION:
END:VEVENT
END:VCALENDAR
