BEGIN:VCALENDAR
VERSION:2.0
PRODID:-//chikkutakku.com//RDFCal 1.0//EN
X-WR-CALDESC:GoogleカレンダーやiCalendar形式情報を共有シェ
 アしましょう。近所のイベントから全国のイベントま
 で今日のイベント検索やスケジュールを決めるならち
 っくたっく
X-WR-CALNAME:ちっくたっく
X-WR-TIMEZONE:UTC
BEGIN:VEVENT
SUMMARY:【Android 対応】【初イベに！】Bar.SUIGA【改変も！
 】
DTSTART;VALUE=DATE-TIME:20260423T140000Z
DTEND;VALUE=DATE-TIME:20260423T145900Z
UID:149277095763
DESCRIPTION:【イベント主催者】\n　シルル＠VR\n【イベン
 ト内容】\n　初心者さんはまずここへ！！！VRCのあれこ
 れに改変の事も聞いちゃって！！！\n改変上手やBooth出
 品してるクリエイター人もいるよ…！！！\n毎週水～土
 曜、23時～24時営業のバースタイル雑談イベントとなっ
 ております。\nVisiterさんからTrustedさんまでどなたも大
 歓迎！\nお酒を飲む、趣味、改変の話なんでも好きなこ
 とを、相談の場や交流の場としてぜひ！\n麻雀「TANKI」
 等の遊べるギミック、当店限定のオリジナルカクテル
 も！\nスタッフやお客様同士、寝る前のひと時を楽しみ
 ませんか？\n【イベントジャンル】\n　その他交流会\, 
 店舗系イベント\, 初心者向けイベント\, 定期イベント\n
 【参加条件（モデル、人数制限など）】\n　グループ+
 の為グループ加入or加入済みのフレンドさんとお越しく
 ださい。グループ検索→SUIGA.1819\n※違法版権アバター
 、巨大なアバター、過度なパーティクル等はご遠慮く
 ださい\n【参加方法】\n　\n【備考】\n　
LOCATION:
END:VEVENT
END:VCALENDAR
