BEGIN:VCALENDAR
VERSION:2.0
PRODID:-//chikkutakku.com//RDFCal 1.0//EN
X-WR-CALDESC:GoogleカレンダーやiCalendar形式情報を共有シェ
 アしましょう。近所のイベントから全国のイベントま
 で今日のイベント検索やスケジュールを決めるならち
 っくたっく
X-WR-CALNAME:ちっくたっく
X-WR-TIMEZONE:UTC
BEGIN:VEVENT
SUMMARY:異世界で、夫の愛は重いけど可愛い子どもをほの
 ぼの楽しく育てたい（3）
DTSTART;VALUE=DATE:20260430
DTEND;VALUE=DATE:20260501
UID:149328608568
DESCRIPTION:2026-05-01異世界で、夫の愛は重いけど可愛い子
 どもをほのぼの楽しく育てたい（3）サイ/蓮深ふみ株式
 会社アース・スター エンターテイメント
LOCATION:
END:VEVENT
END:VCALENDAR
