BEGIN:VCALENDAR
VERSION:2.0
PRODID:-//chikkutakku.com//RDFCal 1.0//EN
X-WR-CALDESC:GoogleカレンダーやiCalendar形式情報を共有シェ
 アしましょう。近所のイベントから全国のイベントま
 で今日のイベント検索やスケジュールを決めるならち
 っくたっく
X-WR-CALNAME:ちっくたっく
X-WR-TIMEZONE:UTC
BEGIN:VEVENT
SUMMARY:暗殺者である俺のステータスが勇者よりも明らか
 に強いのだが #3 「暗殺者は猫と触れ合う」
DTSTART;VALUE=DATE-TIME:20260421T153000Z
DTEND;VALUE=DATE-TIME:20260421T160000Z
UID:149853566155
DESCRIPTION:3 / 暗殺者は猫と触れ合う / 
LOCATION:BSフジ
END:VEVENT
END:VCALENDAR
