BEGIN:VCALENDAR
VERSION:2.0
PRODID:-//chikkutakku.com//RDFCal 1.0//EN
X-WR-CALDESC:GoogleカレンダーやiCalendar形式情報を共有シェ
 アしましょう。近所のイベントから全国のイベントま
 で今日のイベント検索やスケジュールを決めるならち
 っくたっく
X-WR-CALNAME:ちっくたっく
X-WR-TIMEZONE:UTC
BEGIN:VEVENT
SUMMARY:{BAR KIRISE}
DTSTART;VALUE=DATE-TIME:20260426T133000Z
DTEND;VALUE=DATE-TIME:20260426T133000Z
UID:150555312407
DESCRIPTION:【イベント主催者】\n　kakanome\n【イベント内
 容】\n　「魔女が様々な世界から呼び寄せたキリセ」を
 コンセプトに、キャスト全員がikshop様のVRChat向けアバ
 ター「kirise」を改変、使用しているバー型雑談イベン
 トです！時代や世界観の異なる様々なキリセ達と一緒
 に素敵な一夜を過ごしてみませんか？\nキリセが好きな
 貴方も、キリセが気になる貴方も、キリセを今ここで
 初めて知った方も、是非一度遊びに来てみてください
 ね！\n【イベントジャンル】\n　改変アバター交流会\, 
 その他交流会\, VR飲み会\, 店舗系イベント\, 初心者向け
 イベント\n【参加条件（モデル、人数制限など）】\n　
 アバターをキリセにしていただく必要はございません
 。お気軽にお参加ください\nアバターサイズ50MB程度\n過
 度なパーティクルや音の出るギミックはご遠慮くださ
 い\nその他グループ記載の注意事項を確認していただく
 ようにお願いいたします\n【参加方法】\n　BAR KIRISE（htt
 ps://vrc.group/BARKIR.2323）のグループに参加\n当日グループ
 のインスタンスが開きますので、開始時間ちょうどに
 インスタンスに入場していただくようお願いいたしま
 す\n\n【備考】\n　開始時間以前（VRCのメニューに表示
 されている時計に準拠）にインスタンスに入られたお
 客様は特別な理由がない限り、一度ご退出いただきま
 す。ご注意ください。\n
LOCATION:
END:VEVENT
END:VCALENDAR
