BEGIN:VCALENDAR
VERSION:2.0
PRODID:-//chikkutakku.com//RDFCal 1.0//EN
X-WR-CALDESC:GoogleカレンダーやiCalendar形式情報を共有シェ
 アしましょう。近所のイベントから全国のイベントま
 で今日のイベント検索やスケジュールを決めるならち
 っくたっく
X-WR-CALNAME:ちっくたっく
X-WR-TIMEZONE:UTC
BEGIN:VEVENT
SUMMARY:Compute & Accelerator Forum
DTSTART;VALUE=DATE-TIME:20260513T143000Z
DTEND;VALUE=DATE-TIME:20260513T160000Z
UID:150898782686
DESCRIPTION:Event URL: https://indico.cern.ch/event/1645394/\n\nTo receive
  annuoncements and information about this forum please subscribe to compu
 te-accelerator-forum-announce@cern.ch\n \n\nhttps://indico.cern.ch/event/
 1645394/\n\nZoom: https://cern.zoom.us/j/64834678524?pwd=KTfIinS2F2ibz1NZx
 x8iH8t0Fnglmj.1
LOCATION:31/3-004 - IT Amphitheatre (CERN)
END:VEVENT
END:VCALENDAR
