BEGIN:VCALENDAR
VERSION:2.0
PRODID:-//chikkutakku.com//RDFCal 1.0//EN
X-WR-CALDESC:GoogleカレンダーやiCalendar形式情報を共有シェ
 アしましょう。近所のイベントから全国のイベントま
 で今日のイベント検索やスケジュールを決めるならち
 っくたっく
X-WR-CALNAME:ちっくたっく
X-WR-TIMEZONE:UTC
BEGIN:VEVENT
SUMMARY: Cub Scout Pack 98 Den Meetings
DTSTART;VALUE=DATE-TIME:20260505T230000Z
DTEND;VALUE=DATE-TIME:20260506T000000Z
UID:151022008012
DESCRIPTION:Lion Den Cafe\nTiger Den Chapel\nWolf Den Welcome Area\nBear D
 en 105\nWebelos Den 101\nAOL Den 103
LOCATION:Room 103 - SBY\, Rm 101\, Welcome Center\, Chapel @Stonybrook UMC
 \, 485 Cherry Bottom Road\, Gahanna\, OH\, Wesley Cafe
END:VEVENT
END:VCALENDAR
