BEGIN:VCALENDAR
VERSION:2.0
PRODID:-//chikkutakku.com//RDFCal 1.0//EN
X-WR-CALDESC:GoogleカレンダーやiCalendar形式情報を共有シェ
 アしましょう。近所のイベントから全国のイベントま
 で今日のイベント検索やスケジュールを決めるならち
 っくたっく
X-WR-CALNAME:ちっくたっく
X-WR-TIMEZONE:UTC
BEGIN:VEVENT
SUMMARY:ただいま、おじゃまされます！ #3 「一方、その
 頃…!?」
DTSTART;VALUE=DATE-TIME:20260421T163500Z
DTEND;VALUE=DATE-TIME:20260421T170500Z
UID:151384824023
DESCRIPTION:3 / 一方、その頃…!? / 
LOCATION:日本テレビ
END:VEVENT
END:VCALENDAR
