BEGIN:VCALENDAR
VERSION:2.0
PRODID:-//chikkutakku.com//RDFCal 1.0//EN
X-WR-CALDESC:GoogleカレンダーやiCalendar形式情報を共有シェ
 アしましょう。近所のイベントから全国のイベントま
 で今日のイベント検索やスケジュールを決めるならち
 っくたっく
X-WR-CALNAME:ちっくたっく
X-WR-TIMEZONE:UTC
BEGIN:VEVENT
SUMMARY:【プレオープン】かぷショ！ Side.M 【1:1 匂わせデ
 ートイベント】
DTSTART;VALUE=DATE-TIME:20260425T124500Z
DTEND;VALUE=DATE-TIME:20260425T140000Z
UID:151718304557
DESCRIPTION:【イベント主催者】\n　Qchan777\n【イベント内
 容】\n　バーとは違う、オフの彼と\n１：１のワールド
 巡りデートイベント\nデートをしながら匂わせツーショ
 ットを撮影\n翌週月曜AM7時にキャストがXで匂わせ投稿
 いたします\nリクイン開始　21:45～21:50\n（事前応募・当
 日リクイン枠もございます）\n【イベントジャンル】\n
 　ロールプレイ\, 初心者向けイベント\, 定期イベント\n
 【参加条件（モデル、人数制限など）】\n　・アバター
 容量50MB以下\n・人型アバター推奨(獣人OK)\n・PCVRオンリ
 ー\n・VCでのコミュニケーションが出来る方\n・録画、
 録音、配信は禁止\n＜以下のアバターの使用を禁止しま
 す＞\n・版権、公序良俗に反する違法アバター\n・ダウ
 ロードサイズが極端に大きいアバター\n・視界ジャック
 、大音量ギミック等の迷惑アバター\n・NSFWに該当する
 アバター\n　＜キャストへ以下の行為を禁止します＞\n
 ・過度なおさわりや胸、局部等センシティブ部位への
 接触\n・キャスト辞めるよう伝えた迷惑行為を繰り返す
 こと\n・イベント内外のキャストへのフレンドリクエス
 ト送付\n・イベント外での過度な付きまとい行為\n【参
 加方法】\n　当イベントは大きく分けて2種類参加方法
 がございます。\n詳しい内容は備考に記載しています。
 \n【備考】\n　公式X：@CapShotSiM_VRC\nURL：https://x.com/CapShotS
 iM_vrc\n当イベントは大きく分けて2種類参加方法がござ
 います。\n＜事前応募(火～金)＞\n　①公式Xアカウント
 をフォロー\n　②火曜19:00～金曜12:59までに該当のポス
 トをRP\n　③当選の場合、公式Xよりリクイン先など参加
 方法をDM致します。\n＜当日リクイン枠(土)＞\n　①公式
 Xにてポストされているリクイン先へ事前にフレリクを
 送付\n　②21:45~21:50に1回フレリクを送信\n　③当選の場
 合インバイトが届くのでJOIN
LOCATION:
END:VEVENT
END:VCALENDAR
