BEGIN:VCALENDAR
VERSION:2.0
PRODID:-//chikkutakku.com//RDFCal 1.0//EN
X-WR-CALDESC:GoogleカレンダーやiCalendar形式情報を共有シェ
 アしましょう。近所のイベントから全国のイベントま
 で今日のイベント検索やスケジュールを決めるならち
 っくたっく
X-WR-CALNAME:ちっくたっく
X-WR-TIMEZONE:UTC
BEGIN:VEVENT
SUMMARY:研究開発と政策実装 科学技術イノベーション政
 策のための科学の実践
DTSTART;VALUE=DATE:20260423
DTEND;VALUE=DATE:20260424
UID:152077970783
DESCRIPTION:2026-04-24研究開発と政策実装 科学技術イノベー
 ション政策のための科学の実践森田 朗・山縣 然太朗・
 黒河 昭雄 JST社会技術研究開発センター共同文化社
LOCATION:
END:VEVENT
END:VCALENDAR
