BEGIN:VCALENDAR
VERSION:2.0
PRODID:-//chikkutakku.com//RDFCal 1.0//EN
X-WR-CALDESC:GoogleカレンダーやiCalendar形式情報を共有シェ
 アしましょう。近所のイベントから全国のイベントま
 で今日のイベント検索やスケジュールを決めるならち
 っくたっく
X-WR-CALNAME:ちっくたっく
X-WR-TIMEZONE:UTC
BEGIN:VEVENT
SUMMARY:【Android 対応】VRボドゲの時間
DTSTART;VALUE=DATE-TIME:20260426T010000Z
DTEND;VALUE=DATE-TIME:20260426T020000Z
UID:152089355346
DESCRIPTION:【イベント主催者】\n　ぽんぽん太\n【イベン
 ト内容】\n　VRでボードゲームを遊ぶイベントです。\n
 「Limitation」を遊びます。\nルール説明から行いますの
 で、初めての方もお気軽にご参加ください。\n【イベン
 トジャンル】\n　その他交流会\n【参加条件（モデル、
 人数制限など）】\n　グループ内ルールをご確認くださ
 い。\n【参加方法】\n　グループ「VRボドゲの時間」(VRB.
 1192)に参加してインスタンスへjoin。\n【備考】\n　1卓最
 大4人×3卓のワールドです。\n人数が超過する際は待機
 、交代していただく場合があります。
LOCATION:
END:VEVENT
END:VCALENDAR
