BEGIN:VCALENDAR
VERSION:2.0
PRODID:-//chikkutakku.com//RDFCal 1.0//EN
X-WR-CALDESC:GoogleカレンダーやiCalendar形式情報を共有シェ
 アしましょう。近所のイベントから全国のイベントま
 で今日のイベント検索やスケジュールを決めるならち
 っくたっく
X-WR-CALNAME:ちっくたっく
X-WR-TIMEZONE:UTC
BEGIN:VEVENT
SUMMARY:【Android 対応】【第14回】エキゾアニマル交流会
DTSTART;VALUE=DATE-TIME:20260428T130000Z
DTEND;VALUE=DATE-TIME:20260428T140000Z
UID:152837511182
DESCRIPTION:【イベント主催者】\n　peipeiko\n【イベント内
 容】\n　エキゾチックアニマルに興味のある初心者や飼
 育者が集まる相談・交流イベントです。タグで仲間を
 見つけたり、スタッフによる1対1相談で「お迎え準備」
 「餌やお世話」などの疑問を気軽に解消できます。ペ
 ットショップ店員からの専門的なアドバイスも。カフ
 ェ風ワールドで月1回程度開催しています。\n\n〇交流で
 きる！\nエキゾチックアニマルを飼っている方や、これ
 から飼いたいと考えている方同士が気軽に交流できま
 す。ワールドに設置されたタグマーカーを活用して、
 仲間を見つけることができます。\n\n〇１対１で相談で
 きる！\nワールドにジョイン後、「相談したい」タグを
 有効にした方には、スタッフよりお声がけさせていた
 だき、対象の動物に合わせて相談相手を紹介させてい
 ただきます。\n「何を準備すればいい？」「どんなお世
 話が必要？」など、お迎え前の疑問や不安を相談でき
 る場を提供します。\n「ご飯は何をあげてる？」「お世
 話で気を付けていることは？」など、飼育に関する具
 体的な情報共有を行えます。\n\n〇専門家のアドバイス
 を受けられる！\nペットショップのスタッフも参加する
 ので、プロの視点からのアドバイスを直接聞けます。\n
 \nイベント開催ワールドはカフェワールドになっていま
 す。お茶しながらまったり交流しましょう♪\n【イベン
 トジャンル】\n　その他交流会\, 初心者向けイベント\, 
 定期イベント\n【参加条件（モデル、人数制限など）】
 \n　基本的に公序良俗をお守りいただければ問題ありま
 せん。\n【参加方法】\n　VRChatグループ「エキゾアニマ
 ル交流会」にご参加ください。\n時間になりましたらGro
 up＋でインスタンスを立てますのでご自由に参加くださ
 い。\n途中参加・退場自由です。\nGroupID：ANIMAL.0486\nhttps
 ://vrchat.com/home/group/grp_a969e9a9-498e-471d-834f-4fd0d99d22dd\n【備
 考】\n　〇スケジュール\n毎月1～2回程度、不定期で開
 催予定です。\n開催日は2週間前を目途にVRChatグループ
 の告知及びXアカウントにてお知らせします。\nXアカウ
 ント：@ekizoanimaruVRC\n\n〇当日の流れ\n22:00：イベント開
 始\n22:40：アニマル情報局（約10分のトークコーナー）\n
 22:50：集合写真撮影＆告知\n23:00：イベント終了\n\n〇注
 意事項\n・小動物全般の交流イベントです。自分が嫌い
 な種類を好きな人が参加している可能性を踏まえた発
 言を心がけるようお願いいたします。\n・写真撮影は自
 由ですが、録画・録音をする場合は事前に主催に相談
 してください。 \n・参加者の皆さまに楽しんでいただ
 けるよう努めてまいります。何かお気づきの点がござ
 いましたら、どうぞ遠慮なくお知らせください。\n\n〇U
 RL\nVRChatグループ「エキゾアニマル交流会」\nhttps://vrchat
 .com/home/group/grp_a969e9a9-498e-471d-834f-4fd0d99d22dd
LOCATION:
END:VEVENT
END:VCALENDAR
