BEGIN:VCALENDAR
VERSION:2.0
PRODID:-//chikkutakku.com//RDFCal 1.0//EN
X-WR-CALDESC:GoogleカレンダーやiCalendar形式情報を共有シェ
 アしましょう。近所のイベントから全国のイベントま
 で今日のイベント検索やスケジュールを決めるならち
 っくたっく
X-WR-CALNAME:ちっくたっく
X-WR-TIMEZONE:UTC
BEGIN:VEVENT
SUMMARY:JC Singers - Oak Hill Baptist Church
DTSTART;VALUE=DATE:20260426
DTEND;VALUE=DATE:20260427
UID:153638433197
DESCRIPTION:通过 Google Meet 加入：https://meet.google.com/fjs-qmhj-h
 ju\n或者拨打以下号码：(US) +1 406-840-4583 PIN 码： 579368403#\
 n\n如需详细了解 Google Meet，请访问：https://support.google.com
 /a/users/answer/9282720
LOCATION:Gilmer\, TX
END:VEVENT
END:VCALENDAR
