BEGIN:VCALENDAR
VERSION:2.0
PRODID:-//chikkutakku.com//RDFCal 1.0//EN
X-WR-CALDESC:GoogleカレンダーやiCalendar形式情報を共有シェ
 アしましょう。近所のイベントから全国のイベントま
 で今日のイベント検索やスケジュールを決めるならち
 っくたっく
X-WR-CALNAME:ちっくたっく
X-WR-TIMEZONE:UTC
BEGIN:VEVENT
SUMMARY:『🌟SeaStar🌟』IKUSIAアバター姉妹接客RPイベント
DTSTART;VALUE=DATE-TIME:20260425T125000Z
DTEND;VALUE=DATE-TIME:20260425T140000Z
UID:153964432442
DESCRIPTION:【イベント主催者】\n　---Yuri---\n【イベント内
 容】\n　IKUSIAアバターが送る新たな物語\n“４月限定特
 別開催”\nIFの世界で送る新たな物語\n私立SeaStar学園で
 のドタバタ劇にあなたも巻き込まれる！？\n【イベント
 ジャンル】\n　ロールプレイ\n【参加条件（モデル、人
 数制限など）】\n　アバターDL容量40MB以下など\n詳しく
 はGroup（SSS.1376）のRulesをご確認ください\n【参加方法】
 \n　Group（SSS.1376）へ加入、時間になりましたらGroupイン
 スタンスが立ちますので参加お願いします。\n【備考】
 \n　・２対4接客\n・ローテーションシステム（１ローテ
 １５分）\n・お客様側のロールプレイは強制していませ
 ん
LOCATION:
END:VEVENT
END:VCALENDAR
