BEGIN:VCALENDAR
VERSION:2.0
PRODID:-//chikkutakku.com//RDFCal 1.0//EN
X-WR-CALDESC:GoogleカレンダーやiCalendar形式情報を共有シェ
 アしましょう。近所のイベントから全国のイベントま
 で今日のイベント検索やスケジュールを決めるならち
 っくたっく
X-WR-CALNAME:ちっくたっく
X-WR-TIMEZONE:UTC
BEGIN:VEVENT
SUMMARY:仲田 Coffee Break
DTSTART;VALUE=DATE-TIME:20260507T100000Z
DTEND;VALUE=DATE-TIME:20260507T140000Z
UID:154253651254
DESCRIPTION:5/7（木）仲田 Coffee Braek\nopen19:00 start19:30 2500円d
 別\n出演\nジャズアミーゴ\nだま　　　　Trumpet\n児玉 健
 人　　Guitar\n赤瀬 淳一　　Hammond Organ\n日比野 清一　Drum
 s\n森香\n第三部は森香を囲むセッション！\n参加希望者
 大募集！\n名古屋市千種区仲田二丁目19-8\nサンシャイン
 仲田B1-B
LOCATION:
END:VEVENT
END:VCALENDAR
