BEGIN:VCALENDAR
VERSION:2.0
PRODID:-//chikkutakku.com//RDFCal 1.0//EN
X-WR-CALDESC:GoogleカレンダーやiCalendar形式情報を共有シェ
 アしましょう。近所のイベントから全国のイベントま
 で今日のイベント検索やスケジュールを決めるならち
 っくたっく
X-WR-CALNAME:ちっくたっく
X-WR-TIMEZONE:UTC
BEGIN:VEVENT
SUMMARY:【Android 対応】ゲムワのNavy Blueで遊ぼう！【初見
 歓迎】
DTSTART;VALUE=DATE-TIME:20260422T120000Z
DTEND;VALUE=DATE-TIME:20260422T130000Z
UID:154259375896
DESCRIPTION:【イベント主催者】\n　コズミック_しき\n【イ
 ベント内容】\n　22日はネイビーブルーで遊びます！\n
 某海戦ゲームみたいに戦艦に乗って砲雷撃戦しましょ
 う！\nまだできたばっかりのグループで至らないところ
 も多いけど楽しく遊ぶをモットーに頑張ります！\n実は
 ２２時以降もアフターで遊んでいるので良ければ遊び
 に来てください！\n【イベントジャンル】\n　その他交
 流会\, 初心者向けイベント\, 定期イベント\n【参加条件
 （モデル、人数制限など）】\n　　あんまり重くないア
 バター\n\n【参加方法】\n　ASOBI.6999でグループ+のインス
 タンスに２１時からジョインお願いします！ \n【備考
 】\n　
LOCATION:
END:VEVENT
END:VCALENDAR
