BEGIN:VCALENDAR
VERSION:2.0
PRODID:-//chikkutakku.com//RDFCal 1.0//EN
X-WR-CALDESC:GoogleカレンダーやiCalendar形式情報を共有シェ
 アしましょう。近所のイベントから全国のイベントま
 で今日のイベント検索やスケジュールを決めるならち
 っくたっく
X-WR-CALNAME:ちっくたっく
X-WR-TIMEZONE:UTC
BEGIN:VEVENT
SUMMARY:GTO パラダイス・ロスト 改（22）
DTSTART;VALUE=DATE:20260519
DTEND;VALUE=DATE:20260520
UID:154376605713
DESCRIPTION:2026-05-20GTO パラダイス・ロスト 改（22）藤沢 
 とおる講談社
LOCATION:
END:VEVENT
END:VCALENDAR
