BEGIN:VCALENDAR
VERSION:2.0
PRODID:-//chikkutakku.com//RDFCal 1.0//EN
X-WR-CALDESC:GoogleカレンダーやiCalendar形式情報を共有シェ
 アしましょう。近所のイベントから全国のイベントま
 で今日のイベント検索やスケジュールを決めるならち
 っくたっく
X-WR-CALNAME:ちっくたっく
X-WR-TIMEZONE:UTC
BEGIN:VEVENT
SUMMARY:Jr & Sr High Game Night
DTSTART;VALUE=DATE-TIME:20260509T030000Z
DTEND;VALUE=DATE-TIME:20260509T050000Z
UID:154793441500
DESCRIPTION:All Junior and Senior High age kids are welcome to bring their
  running shoes and friends and come for a night of fellowship and games!
LOCATION:Eagle River Grace\, 17850 Birchtree St\, Chugiak\, AK 99567\, USA
END:VEVENT
END:VCALENDAR
