BEGIN:VCALENDAR
VERSION:2.0
PRODID:-//chikkutakku.com//RDFCal 1.0//EN
X-WR-CALDESC:GoogleカレンダーやiCalendar形式情報を共有シェ
 アしましょう。近所のイベントから全国のイベントま
 で今日のイベント検索やスケジュールを決めるならち
 っくたっく
X-WR-CALNAME:ちっくたっく
X-WR-TIMEZONE:UTC
BEGIN:VEVENT
SUMMARY:【剣を始めよう】ゲームワールド 剣戟メイズ集
 会v2
DTSTART;VALUE=DATE-TIME:20260428T124500Z
DTEND;VALUE=DATE-TIME:20260428T140000Z
UID:155121510737
DESCRIPTION:【イベント主催者】\n　lemon8\n【イベント内容
 】\n　ランダム生成迷路を舞台に、足音を頼りに敵を探
 し、ガード＆一撃決着で戦うPvP剣術ゲームの集会です
 。1回のゲーム時間は10分。初回は22:00スタートで、23:00
 までに計4回開催されます。\n【イベントジャンル】\n　
 その他交流会\, 定期イベント\n【参加条件（モデル、人
 数制限など）】\n　- PCVR専用です \n- 最大参加人数：24
 人 \n- ワールド内にあるパブリックアバター、または「
 イクサキット」導入済みアバターで参加可能です。\n【
 参加方法】\n　- 事前に以下グループへ参加（https://vrc.g
 roup/SOUL66.3306） \n- 21˸45分頃にGroup＋インスタンスにJOINǃ
  \n- 初心者の方にはガイドをしますので21˸45にお越しく
 ださい\n【備考】\n　
LOCATION:
END:VEVENT
END:VCALENDAR
