BEGIN:VCALENDAR
VERSION:2.0
PRODID:-//chikkutakku.com//RDFCal 1.0//EN
X-WR-CALDESC:GoogleカレンダーやiCalendar形式情報を共有シェ
 アしましょう。近所のイベントから全国のイベントま
 で今日のイベント検索やスケジュールを決めるならち
 っくたっく
X-WR-CALNAME:ちっくたっく
X-WR-TIMEZONE:UTC
BEGIN:VEVENT
SUMMARY:終末世界RP×メイド「終末、あなたと私。」
DTSTART;VALUE=DATE-TIME:20260422T125700Z
DTEND;VALUE=DATE-TIME:20260422T140000Z
UID:155274056799
DESCRIPTION:【イベント主催者】\n　Seqnobloom\n【イベント内
 容】\n　「今夜世界が終わるって言うのに…最後の思い
 出がここで良かったんですか？」\n終末世界でメイド服
 を着たキャストと1対1でRPを楽しめるイベントです。\n\n
 世界が終わる1時間前、特別行く当てもなく途方に暮れ
 ていたあなたは何故か灯りがついているBarを見つけま
 した。そこは「Bar Sacre」というメイド服を着た‘‘何
 者か達‘‘がいる謎のバーでした。\nそんなBarに惹かれ
 たあなたはこの謎のバー「Sacre」で最後の時間を過ごす
 ことにした-----\n\n終末する1時間前の世界でメイド服を
 着た個性豊かなキャストと1対1でお話しできる接客系RP
 イベントです。\n様々な過去や理由があって終末する1
 時間前でもメイドたちはこのBarで働いています。あな
 たの人生のこと、教えてくれませんか？\nイベント中は
 、バーテンダーによるカクテルの提供がございます。\n
 おしゃれなカクテルを楽しみながら人生最後の1時間に
 メイドとお話ししませんか？\n\n1ローテ15分の計2ローテ
 となっておりますので合計2名のメイドとお話しいただ
 けます。\n\n当イベントはQuest単機の方と無言勢の方は
 参加をご遠慮させていただきます。\n【イベントジャン
 ル】\n　店舗系イベント\, ロールプレイ\, 初心者向けイ
 ベント\n【参加条件（モデル、人数制限など）】\n　【
 禁止事項】\n・NSFWに該当する行為\n・巨大アバター、過
 度に重いアバター\n・違法アバター、版権アバターの使
 用\n・音の出るアバター、視界ジャックの使用\n・お客
 様からのキャスト、スタッフへのフレンド申請\n・無許
 可での配信・録画・録音・Discordなどでの画面共有\n・
 イベントの進行を妨げる行為\n\n【注意事項】\n・当イ
 ベントは日本語で日常会話ができる方のみご参加いた
 だけます。\n・イベントの関係上、当イベントはQuest単
 機の方と無言勢の方は参加をご遠慮させていただきま
 す。\n・イベント中の写真撮影は可能ですが、他のお客
 様が映らないよう、ご配慮お願いいたします。\n・必ず
 接客希望キャストとお話しできるとは限りません。\n【
 参加方法】\n　事前予約枠と当日リクイン枠の2つござ
 います。\n当日リクイン：事前に主催（ID˸Seqnobloom）へ
 フレンド申請を送っていただき、\n21時57分になったらSe
 qnobloomへリクイン（招待をリクエスト）\n\n事前予約：
 開催日の3～5日前にXにて予約フォームが投稿されるの
 で、応募 抽選という流れです。\n\nリクインは先着順で
 のご案内となります。22時までに招待が送られてこなけ
 れば、残念ながら落選となります。\nまた当選し招待送
 信後、3分以内にJoinされなかった場合は当選が無効とな
 り他のお客様をご案内させていただく可能性がござい
 ます。\n【備考】\n　VRChatグループ：https://vrc.group/LASTTT.
 3808\nイベント公式X：https://x.com/last_VRC
LOCATION:
END:VEVENT
END:VCALENDAR
