BEGIN:VCALENDAR
VERSION:2.0
PRODID:-//chikkutakku.com//RDFCal 1.0//EN
X-WR-CALDESC:GoogleカレンダーやiCalendar形式情報を共有シェ
 アしましょう。近所のイベントから全国のイベントま
 で今日のイベント検索やスケジュールを決めるならち
 っくたっく
X-WR-CALNAME:ちっくたっく
X-WR-TIMEZONE:UTC
BEGIN:VEVENT
SUMMARY:ぼくらは物語ハンター
DTSTART;VALUE=DATE:20260517
DTEND;VALUE=DATE:20260518
UID:155530390438
DESCRIPTION:2026-05-18ぼくらは物語ハンターバーバラ・リー
 ド/バーバラ・リード/千葉 茂樹あすなろ書房
LOCATION:
END:VEVENT
END:VCALENDAR
