BEGIN:VCALENDAR
VERSION:2.0
PRODID:-//chikkutakku.com//RDFCal 1.0//EN
X-WR-CALDESC:GoogleカレンダーやiCalendar形式情報を共有シェ
 アしましょう。近所のイベントから全国のイベントま
 で今日のイベント検索やスケジュールを決めるならち
 っくたっく
X-WR-CALNAME:ちっくたっく
X-WR-TIMEZONE:UTC
BEGIN:VEVENT
SUMMARY:終末面会RP「ことのは診療所」【第一部】
DTSTART;VALUE=DATE-TIME:20260425T133000Z
DTEND;VALUE=DATE-TIME:20260425T140000Z
UID:155656911637
DESCRIPTION:【イベント主催者】\n　さわぐる\n【イベント
 内容】\n　ここは、\n訪れた者の“終わりの時間”が見
 える病室。\n\n入院して目を覚ますと\nあなたの枕元に
 は一人の面会者が立っています。\n\n与えられた時間は
 、二十分。\n\n時計の針が一周するまで、\nどうか自由
 にお話しください。\n\n思い出でも、恨みでも、願いで
 も。\n誰かに言いそびれたことでも構いません。\n\nど
 うせ、もうすぐ終わるのだから。\n【イベントジャンル
 】\n　ロールプレイ\, 定期イベント\n【参加条件（モデ
 ル、人数制限など）】\n　・本イベントは一度きりしか
 体験できません\n・ネタバレ禁止です（これから参加す
 る方のために、ご配慮ください）\n・Xへの感想投稿や
 参加したことある人同士での会話は楽しんで下さい\n【
 参加方法】\n　１．『ことのは（ID：OWARI.2111）』グルー
 プに参加\nhttps://vrc.group/OWARI.2111\n\n２．参加したい時間
 の開始時刻になったら、\n　　GroupインスタンスへJoin\n\
 n※各部１名限定（先着）\n　枠が埋まり次第、その回
 の受付は終了となります\n【備考】\n　Xアカウント\nこ
 とのは診療所【VRCイベント】\n@VRC_Kotonoha 
LOCATION:
END:VEVENT
END:VCALENDAR
