BEGIN:VCALENDAR
VERSION:2.0
PRODID:-//chikkutakku.com//RDFCal 1.0//EN
X-WR-CALDESC:GoogleカレンダーやiCalendar形式情報を共有シェ
 アしましょう。近所のイベントから全国のイベントま
 で今日のイベント検索やスケジュールを決めるならち
 っくたっく
X-WR-CALNAME:ちっくたっく
X-WR-TIMEZONE:UTC
BEGIN:VEVENT
SUMMARY:畠倶楽部
DTSTART;VALUE=DATE-TIME:20260508T233000Z
DTEND;VALUE=DATE-TIME:20260509T010000Z
UID:156009033401
DESCRIPTION:畠倶楽部
LOCATION:リトルファームちえ\, 日本、〒984-0833 宮城県仙
 台市若林区飯田屋敷５８
END:VEVENT
END:VCALENDAR
