BEGIN:VCALENDAR
VERSION:2.0
PRODID:-//chikkutakku.com//RDFCal 1.0//EN
X-WR-CALDESC:GoogleカレンダーやiCalendar形式情報を共有シェ
 アしましょう。近所のイベントから全国のイベントま
 で今日のイベント検索やスケジュールを決めるならち
 っくたっく
X-WR-CALNAME:ちっくたっく
X-WR-TIMEZONE:UTC
BEGIN:VEVENT
SUMMARY:【終】拷問バイトくんの日常 #12 「バイト0日目」
DTSTART;VALUE=DATE-TIME:20260422T140000Z
DTEND;VALUE=DATE-TIME:20260422T143000Z
UID:156297596796
DESCRIPTION:12 / バイト0日目 / 
LOCATION:AT-X
END:VEVENT
END:VCALENDAR
