BEGIN:VCALENDAR
VERSION:2.0
PRODID:-//chikkutakku.com//RDFCal 1.0//EN
X-WR-CALDESC:GoogleカレンダーやiCalendar形式情報を共有シェ
 アしましょう。近所のイベントから全国のイベントま
 で今日のイベント検索やスケジュールを決めるならち
 っくたっく
X-WR-CALNAME:ちっくたっく
X-WR-TIMEZONE:UTC
BEGIN:VEVENT
SUMMARY:【Android 対応】異世界おねぇ系居酒屋｢華万千代-
 かまちょ-｣
DTSTART;VALUE=DATE-TIME:20260424T130000Z
DTEND;VALUE=DATE-TIME:20260424T140000Z
UID:156590522886
DESCRIPTION:【イベント主催者】\n　一休さん\n【イベント
 内容】\n　居酒屋で飲んで食べて喋って今週もお疲れ様
 しましょ。\n【イベントジャンル】\n　その他交流会\, 
 店舗系イベント\, ロールプレイ\, 初心者向けイベント\,
  定期イベント\n【参加条件（モデル、人数制限など）
 】\n　Android対応推奨\n【参加方法】\n　グループ:KMC.8101
 に参加後、開催時間になったら遊びに来てね。\n【備考
 】\n　4月もあと少しね。あなた達はGWの予定あるの？私
 は他イベントのワールド準備やアバター改変して有意
 義なVRCライフを送るわ。てなわけで、居酒屋｢華万千
 代｣に遊びに来てね。
LOCATION:
END:VEVENT
END:VCALENDAR
