BEGIN:VCALENDAR
VERSION:2.0
PRODID:-//chikkutakku.com//RDFCal 1.0//EN
X-WR-CALDESC:GoogleカレンダーやiCalendar形式情報を共有シェ
 アしましょう。近所のイベントから全国のイベントま
 で今日のイベント検索やスケジュールを決めるならち
 っくたっく
X-WR-CALNAME:ちっくたっく
X-WR-TIMEZONE:UTC
BEGIN:VEVENT
SUMMARY:魔法少女特務訓練機関「マギア・クレイドル」
DTSTART;VALUE=DATE-TIME:20260427T130000Z
DTEND;VALUE=DATE-TIME:20260427T143000Z
UID:156759208038
DESCRIPTION:【イベント主催者】\n　Magia・Cradle\n【イベン
 ト内容】\n　「少女よ、愛を消費せよ。」 \n参加者は戦
 火の小さな国、セレノアの国民として魔法少女との対
 話訓練に協力をすることとなる。魔法の源となる、愛
 とは何かを教える為に。(RPイベント)\n【イベントジャ
 ンル】\n　ロールプレイ\n【参加条件（モデル、人数制
 限など）】\n　アバター容量50MB以下、1名まで同行参加
 可能\n【参加方法】\n　事前抽選制、当日リクイン枠有\
 n詳しくは公式Xにて：https://x.com/magiacradle \n【備考】\n　
 公式X：https://x.com/magiacradle
LOCATION:
END:VEVENT
END:VCALENDAR
