BEGIN:VCALENDAR
VERSION:2.0
PRODID:-//chikkutakku.com//RDFCal 1.0//EN
X-WR-CALDESC:GoogleカレンダーやiCalendar形式情報を共有シェ
 アしましょう。近所のイベントから全国のイベントま
 で今日のイベント検索やスケジュールを決めるならち
 っくたっく
X-WR-CALNAME:ちっくたっく
X-WR-TIMEZONE:UTC
BEGIN:VEVENT
SUMMARY:【KRD8】IDOL CREAM SODA TRIANGLE vol.2
DTSTART;VALUE=DATE:20260503
DTEND;VALUE=DATE:20260504
UID:156965838535
DESCRIPTION:5/4(祝月)「IDOL CREAM SODA TRIANGLE vol.2」【会場】赤
 羽ReNY alpha【時間】OPEN 14:15 / START 14:30【料金】優先入場
 ¥6\,000/前方¥3\,000/一般¥1\,500/当日+¥1\,000(各+1D)【出演】
 煌めき☆アンフォレント / 純情のアフィリア / Lumi Cherie
  &amp\; 星野愛菜【O.A.】KRD8【チケット】4/21(火)21:00〜5/4(
 祝月)14:30https://t-dv.com/IDOLCREAMSODATRIANGLEvol2【タイムテー
 ブル】14:15(15) OPEN14:30(15) KRD814:45(25) Lumi Cherie15:10(10) トー
 ク(煌めき☆アンフォレント&amp\;Lumi Cherie&amp\;星野愛菜)1
 5:20(5) コラボ(煌めき☆アンフォレント&amp\;星野愛菜)15:2
 5(35) 純情のアフィリア16:00(30) 煌めき☆アンフォレント1
 6:30(10) トーク16:40(80) 終演後特典会18:00 END
LOCATION:赤羽ReNY alpha\, 日本、〒115-0045 東京都北区赤羽１
 丁目７−９
END:VEVENT
END:VCALENDAR
