BEGIN:VCALENDAR
VERSION:2.0
PRODID:-//chikkutakku.com//RDFCal 1.0//EN
X-WR-CALDESC:GoogleカレンダーやiCalendar形式情報を共有シェ
 アしましょう。近所のイベントから全国のイベントま
 で今日のイベント検索やスケジュールを決めるならち
 っくたっく
X-WR-CALNAME:ちっくたっく
X-WR-TIMEZONE:UTC
BEGIN:VEVENT
SUMMARY:ロリアバターくすぐり学園 in VRC 【初心者歓迎】
DTSTART;VALUE=DATE-TIME:20260423T140000Z
DTEND;VALUE=DATE-TIME:20260423T145900Z
UID:157094105624
DESCRIPTION:【イベント主催者】\n　Kinoko_Masuka\n【イベント
 内容】\n　自身の手やワールド内に設置されたねこじゃ
 らしを使ってロリアバターの子をくすぐったり、ロリ
 アバターでくすぐられたりするイベントです。くすぐ
 られてもだえているところを写真撮ったりします。\n【
 イベントジャンル】\n　改変アバター交流会\, その他交
 流会\, 定期イベント\n【参加条件（モデル、人数制限な
 ど）】\n　ロリアバターでくすぐられたい人、ロリアバ
 ターをくすぐりたい人（くすぐる分にはロリアバター
 でなくてもかまいません）、写真撮りたい人も見学す
 るだけも大歓迎☆\n【参加方法】\n　「VRCジュニアアイ
 ドル部」のgroup+で開催します。\n上記グループに参加し
 て開催時刻にgroup+インスタンスへjoinお願いします。\n
 【備考】\n　https://x.com/mushturb8/status/2046790709404143976
LOCATION:
END:VEVENT
END:VCALENDAR
