BEGIN:VCALENDAR
VERSION:2.0
PRODID:-//chikkutakku.com//RDFCal 1.0//EN
X-WR-CALDESC:GoogleカレンダーやiCalendar形式情報を共有シェ
 アしましょう。近所のイベントから全国のイベントま
 で今日のイベント検索やスケジュールを決めるならち
 っくたっく
X-WR-CALNAME:ちっくたっく
X-WR-TIMEZONE:UTC
BEGIN:VEVENT
SUMMARY:かぶとむしが にげた！
DTSTART;VALUE=DATE:20260510
DTEND;VALUE=DATE:20260511
UID:157411871879
DESCRIPTION:2026-05-11かぶとむしが にげた！たしろちさと株
 式会社 福音館書店
LOCATION:
END:VEVENT
END:VCALENDAR
