BEGIN:VCALENDAR
VERSION:2.0
PRODID:-//chikkutakku.com//RDFCal 1.0//EN
X-WR-CALDESC:GoogleカレンダーやiCalendar形式情報を共有シェ
 アしましょう。近所のイベントから全国のイベントま
 で今日のイベント検索やスケジュールを決めるならち
 っくたっく
X-WR-CALNAME:ちっくたっく
X-WR-TIMEZONE:UTC
BEGIN:VEVENT
SUMMARY:【Android 対応】月次初心者教室あり！ VRC将棋カフ
 ェ第167回
DTSTART;VALUE=DATE-TIME:20260425T120000Z
DTEND;VALUE=DATE-TIME:20260425T140000Z
UID:157443910254
DESCRIPTION:【イベント主催者】\n　未良々桂（みららけい
 ）@将棋系Vtuber\n【イベント内容】\n　月に1回の初心者
 教室イベントの回になります。\n座学もしくは初心者同
 士の対局、駒落ち対局を行えます。\n※ 平常の将棋カ
 フェも開催しています。\n【イベントジャンル】\n　そ
 の他交流会\, 店舗系イベント\, 初心者向けイベント\n【
 参加条件（モデル、人数制限など）】\n　特になし。将
 棋を知らない人にはルール説明します。\n【参加方法】
 \n　① VRC将棋交流会 https://vrc.group/SHOGI.5238 に入り、Group
 から参加！\n② miraraK へフレンドを送り、JOINで参加！\n
 【備考】\n　https://x.com/miraraKnight/status/2007157345118544208
LOCATION:
END:VEVENT
END:VCALENDAR
