BEGIN:VCALENDAR
VERSION:2.0
PRODID:-//chikkutakku.com//RDFCal 1.0//EN
X-WR-CALDESC:GoogleカレンダーやiCalendar形式情報を共有シェ
 アしましょう。近所のイベントから全国のイベントま
 で今日のイベント検索やスケジュールを決めるならち
 っくたっく
X-WR-CALNAME:ちっくたっく
X-WR-TIMEZONE:UTC
BEGIN:VEVENT
SUMMARY:おおはた雄一presents "THE TRIO" feat.鹿島達也・高橋
 結子
DTSTART;VALUE=DATE:20260424
DTEND;VALUE=DATE:20260425
UID:158157565048
DESCRIPTION:open 19:00 / start 19:30\nvo&gt：おおはた雄一　bs：
 鹿島達也　ds：高橋結子\n￥4\,500\n\n【関連/参考ページ
 】\nhttps://mandala.gr.jp/aoyama/ （南青山MANDALA）\nhttps://yuichio
 hata.com/contents/1053472 （おおはた雄一）\nhttps://tiget.net/even
 ts/471772 （TIGET）
LOCATION:南青山MANDALA【関東】
END:VEVENT
END:VCALENDAR
