BEGIN:VCALENDAR
VERSION:2.0
PRODID:-//chikkutakku.com//RDFCal 1.0//EN
X-WR-CALDESC:GoogleカレンダーやiCalendar形式情報を共有シェ
 アしましょう。近所のイベントから全国のイベントま
 で今日のイベント検索やスケジュールを決めるならち
 っくたっく
X-WR-CALNAME:ちっくたっく
X-WR-TIMEZONE:UTC
BEGIN:VEVENT
SUMMARY:MAGICAL SPEC Spotify O-nest 定期公演 vol.21
DTSTART;VALUE=DATE-TIME:20260421T070000Z
DTEND;VALUE=DATE-TIME:20260421T073000Z
UID:158758311105
DESCRIPTION:<a href="https://x.com/aya_magicalspec/status/2044055482542039
 193" target="_blank">https://x.com/aya_magicalspec/status/2044055482542039
 193</a><br>4/21（火）はSpotify O-nest 定期公演です🪄<br><br>1
 部は無銭ライブ！2部はマジスペ学園です🏫♡<br>次の
 遠征はこのライブだけなので会えたら嬉しいです🫶🏻
 💞レアな制服姿見にきて~！<br><br>#マジスペ<br><br><a href
 ="https://x.com/MAGICALSPEC/status/2045474736235503860" target="_blank">ht
 tps://x.com/MAGICALSPEC/status/2045474736235503860</a><br>＼開催まで
 残り3日／<br><br>「令和8年度マジスペ学園入学式 東京公
 演」<br>📍Spotify O-nest<br>🗓2026年4月21日(火)<br><br>ライブ
 ももちろんしっかり！<br>そしてみんなが喜んでくれそ
 うなことも?!<br>今年も一緒に盛り上がりましょう✨<br><
 br>🎫チケット販売中🎫<br><a href="https://ticketdive.com/event/
 MagisupeRegularLive21" target="_blank">https://ticketdive.com/event/Magisu
 peRegularLive21</a><br><br>この動画のスペースはみんなが入
 るスペースです💝<br><br>#マジスペ #MAGICALSPEC<br><br><a href
 ="https://ticketdive.com/event/MagisupeRegularLive21">https://ticketdive.c
 om/event/MagisupeRegularLive21</a><br>MAGICAL SPEC Spotify O-nest 定期
 公演 vol.21<br>MAGICAL SPEC無銭ライブ 「Specialnova」<br>日時<b
 r>2026/4/21(火)<br>開場時刻 15:40 / 開演時刻 16:00<br>会場<br>S
 potify O-nest<br>出演<br>MAGICAL SPEC
LOCATION:Spotify O-nest
END:VEVENT
END:VCALENDAR
