BEGIN:VCALENDAR
VERSION:2.0
PRODID:-//chikkutakku.com//RDFCal 1.0//EN
X-WR-CALDESC:GoogleカレンダーやiCalendar形式情報を共有シェ
 アしましょう。近所のイベントから全国のイベントま
 で今日のイベント検索やスケジュールを決めるならち
 っくたっく
X-WR-CALNAME:ちっくたっく
X-WR-TIMEZONE:UTC
BEGIN:VEVENT
SUMMARY:★おさんぽアワー・おとな旅　あるき旅 4/29(水)17
 :59-18:27 BS11イレブン(Ch.211)
DTSTART;VALUE=DATE-TIME:20260429T085900Z
DTEND;VALUE=DATE-TIME:20260429T092700Z
UID:159104208073
DESCRIPTION:★おさんぽアワー・おとな旅　あるき旅\n4/29(
 水)17:59-18:27 BS11イレブン(Ch.211)\n＃30「和歌山市内」\n今
 回は日本のアマルフィと呼ばれている和歌山県の港町
 ・雑賀崎～城下町で紀州の海の幸、山の幸を堪能しま
 す！\nhttps://www.bs11.jp/education/otonatabi/
LOCATION:
END:VEVENT
END:VCALENDAR
