BEGIN:VCALENDAR
VERSION:2.0
PRODID:-//chikkutakku.com//RDFCal 1.0//EN
X-WR-CALDESC:GoogleカレンダーやiCalendar形式情報を共有シェ
 アしましょう。近所のイベントから全国のイベントま
 で今日のイベント検索やスケジュールを決めるならち
 っくたっく
X-WR-CALNAME:ちっくたっく
X-WR-TIMEZONE:UTC
BEGIN:VEVENT
SUMMARY: Creating a Workshop Website
DTSTART;VALUE=DATE-TIME:20260506T083000Z
DTEND;VALUE=DATE-TIME:20260506T100000Z
UID:159521066199
DESCRIPTION:Host: Jannetta Steyn Description of session\, including any pr
 erequisites: A hands-on session on how to create a website for your Carpen
 tries workshop. You will need a GitHub account. https://github.com/This is
  a Community Session.Instructor trainees can attend this event as part of 
 their checkout requirements ('Get Involved' step).  This event is also ope
 n to our general community members who want to learn more about The Carpen
 tries.Please sign up to attend on Pretix:  https://pretix.carpentries.org/
 community-events/community-sessions/The event will be in this zoom room: h
 ttps://carpentries.zoom.us/my/carpentriesroom2?pwd=WmVCOUlPUm1laFk5SUp1UWg
 5cjhEUT09.  The password to this zoom room is 202020
LOCATION:https://carpentries.zoom.us/my/carpentriesroom2?pwd=WmVCOUlPUm1la
 Fk5SUp1UWg5cjhEUT09
END:VEVENT
END:VCALENDAR
