BEGIN:VCALENDAR
VERSION:2.0
PRODID:-//chikkutakku.com//RDFCal 1.0//EN
X-WR-CALDESC:GoogleカレンダーやiCalendar形式情報を共有シェ
 アしましょう。近所のイベントから全国のイベントま
 で今日のイベント検索やスケジュールを決めるならち
 っくたっく
X-WR-CALNAME:ちっくたっく
X-WR-TIMEZONE:UTC
BEGIN:VEVENT
SUMMARY:【Android 対応】【初心者歓迎】#28ゲームワールド
 で遊ぼう！【放課後ゲームるーむ】
DTSTART;VALUE=DATE-TIME:20260425T120000Z
DTEND;VALUE=DATE-TIME:20260425T133000Z
UID:160300054230
DESCRIPTION:【イベント主催者】\n　レッドフレーム\n【イ
 ベント内容】\n　Quest対応ゲームワールドで遊ぶイベン
 トです。\n遊んだことがない方も気軽に遊びに来てくだ
 さい！\n今回遊ぶゲームは\nMurder 4\nになります！\n\n【
 イベントジャンル】\n　初心者向けイベント\, 定期イベ
 ント\n【参加条件（モデル、人数制限など）】\n　ダウ
 ンロードサイズは50MB以下。\n著作権に問題のあるアバ
 ターはご遠慮ください。\n【参加方法】\n　グループ「P
 BGAME.8288」に参加後にグループインスタンスにJoin！\n【
 備考】\n　https://vrchat.com/home/group/grp_0ba11779-2f6a-498f-b1be-0f
 678d56918c
LOCATION:
END:VEVENT
END:VCALENDAR
