BEGIN:VCALENDAR
VERSION:2.0
PRODID:-//chikkutakku.com//RDFCal 1.0//EN
X-WR-CALDESC:GoogleカレンダーやiCalendar形式情報を共有シェ
 アしましょう。近所のイベントから全国のイベントま
 で今日のイベント検索やスケジュールを決めるならち
 っくたっく
X-WR-CALNAME:ちっくたっく
X-WR-TIMEZONE:UTC
BEGIN:VEVENT
SUMMARY:カフェイベント『カエルの森』【第19回】
DTSTART;VALUE=DATE-TIME:20260422T130000Z
DTEND;VALUE=DATE-TIME:20260422T130000Z
UID:160436369289
DESCRIPTION:【イベント主催者】\n　あれい\n【イベント内
 容】\n　森で暮らすカエルたちとのんびりと過ごし、訪
 れたお客さんに癒しと楽しみを提供するVRCイベントで
 す。カエルの森にはかわいらしい子からちょっとユニ
 ークな子まで、個性豊かな仲間たちが暮らしています
 ！\nまた、カエルならではのドリンクやフードのメニュ
 ーをご用意しております。\n\nキャストは一人ひとり異
 なるカエルをテーマに改変をしております。\nぜひあな
 たの推しガエルを見つけてみてください！\n【イベント
 ジャンル】\n　その他交流会\, 店舗系イベント\, 定期イ
 ベント\n【参加条件（モデル、人数制限など）】\n　PC
 オンリー\nアバターのダウンロードサイズ40MB以下\n大き
 い音や視界ジャックのあるアバター禁止\n【参加方法】
 \n　Groupインスタンスで開催します。 グループに参加の
 うえjoinをお願い致します。\nVRCグループはこちら↓ \nht
 tps://vrchat.com/home/group/grp_c197a85a-7bf5-4fb8-8db9-e09ebb4021d4\n【
 備考】\n　
LOCATION:
END:VEVENT
END:VCALENDAR
