BEGIN:VCALENDAR
VERSION:2.0
PRODID:-//chikkutakku.com//RDFCal 1.0//EN
X-WR-CALDESC:GoogleカレンダーやiCalendar形式情報を共有シェ
 アしましょう。近所のイベントから全国のイベントま
 で今日のイベント検索やスケジュールを決めるならち
 っくたっく
X-WR-CALNAME:ちっくたっく
X-WR-TIMEZONE:UTC
BEGIN:VEVENT
SUMMARY:婚約者が浮気相手と駆け落ちしました。王子殿下
 に溺愛されて幸せなので、今さら戻りたいと言われて
 も困ります。5
DTSTART;VALUE=DATE:20260519
DTEND;VALUE=DATE:20260520
UID:160616631517
DESCRIPTION:2026-05-20婚約者が浮気相手と駆け落ちしました
 。王子殿下に溺愛されて幸せなので、今さら戻りたい
 と言われても困ります。5あおいれびん/櫻井みこと/黒
 裄ドリコム
LOCATION:
END:VEVENT
END:VCALENDAR
