BEGIN:VCALENDAR
VERSION:2.0
PRODID:-//chikkutakku.com//RDFCal 1.0//EN
X-WR-CALDESC:GoogleカレンダーやiCalendar形式情報を共有シェ
 アしましょう。近所のイベントから全国のイベントま
 で今日のイベント検索やスケジュールを決めるならち
 っくたっく
X-WR-CALNAME:ちっくたっく
X-WR-TIMEZONE:UTC
BEGIN:VEVENT
SUMMARY:恩方地区 税務研修会／活動報告会
DTSTART;VALUE=DATE-TIME:20260422T090000Z
DTEND;VALUE=DATE-TIME:20260422T101500Z
UID:160903902347
DESCRIPTION:
LOCATION:恩方市民センター　１階会議室 @ 西寺方町260-4
END:VEVENT
END:VCALENDAR
