BEGIN:VCALENDAR
VERSION:2.0
PRODID:-//chikkutakku.com//RDFCal 1.0//EN
X-WR-CALDESC:GoogleカレンダーやiCalendar形式情報を共有シェ
 アしましょう。近所のイベントから全国のイベントま
 で今日のイベント検索やスケジュールを決めるならち
 っくたっく
X-WR-CALNAME:ちっくたっく
X-WR-TIMEZONE:UTC
BEGIN:VEVENT
SUMMARY:งานเชิดชูเกียรติ “นักก
 ิจกรรม” ปีการศึกษา 2568 (Thank You\, Act
 ivists 2025)
DTSTART;VALUE=DATE-TIME:20260424T090000Z
DTEND;VALUE=DATE-TIME:20260424T133000Z
UID:161010309156
DESCRIPTION:งานเชิดชูเกียรติ “นัก
 กิจกรรม” ปีการศึกษา 2568(Thank You\, A
 ctivists 2025)📅 วันศุกร์ที่ 24 เมษายน
  2569⏰ เวลา 16.00 – 20.30 น.📍 ณ สนามกีฬ
 ากลาง ม.ร.ว.จุรีพรหม กมลาสน์
  (สนามฟุตบอล)มหาวิทยาลัยศร
 ีนครินทรวิโรฒ ประสานมิตร 
 การแต่งกายขอความร่วมมือใ
 ห้แต่งกายด้วยชุดสุภาพ สูท
 สากล หรือชุดผ้าไทย (เทา - แด
 ง)กำหนดการ16.00 – 17.00 น.ลงทะเบีย
 นผู้เข้ารับรางวัลและผู้เ
 ข้าร่วมงาน17.00 – 17.20 น.พิธีกรกล
 ่าวต้อนรับผู้เข้าร่วมงาน
 การแสดงวงโปงลาง จากโรงเรี
 ยนสาธิตมหาวิทยาลัยศรีนคร
 ินทรวิโรฒ ประสานมิตร (ฝ่าย
 มัธยม)17.20 – 17.25 น.พิธีเปิดงาน โ
 ดย อธิการบดีมหาวิทยาลัยศร
 ีนครินทรวิโรฒ(รองศาสตราจา
 รย์ ดร.ชลวิทย์ เจียรจิตต์)17.2
 5 – 18.00 น.พิธีมอบรางวัลเชิดชู
 เกียรติโครงการที่สมควรได
 ้รับการยกย่องนิสิตสร้างช
 ื่อเสียงแก่มหาวิทยาลัยจา
 กการประกวดแข่งขันระดับชา
 ติและนานาชาติ2.1 ประเภทบุคค
 ล2.2 ประเภททีมนิสิตที่ได้รั
 บการคัดเลือกรับรางวัลพระ
 ราชทานระดับอุดมศึกษา (ระดั
 บมหาวิทยาลัย)ผู้สนับสนุนก
 ิจกรรมของมหาวิทยาลัยอาจา
 รย์ที่ปรึกษาองค์กรนิสิตผ
 ู้นำองค์กรนิสิต6.1 สภานิสิต6
 .2 องค์การนิสิต6.3 ศูนย์นิสิต
 จิตอาสา มศว6.4 สโมสรนิสิต6.5 ช
 มรม 4 ฝ่าย18.00 – 20.30 น.รับประทานอ
 าหารเย็น (โต๊ะจีน)การแสดงด
 นตรี จากชมรมดนตรีและการแส
 ดง (SWU BAND)20.30 น.เสร็จสิ้นกิจกรร
 ม 
LOCATION:ณ สนามกีฬากลาง ม.ร.ว.จุรี
 พรหม กมลาสน์ (สนามฟุตบอล) มห
 าวิทยาลัยศรีนครินทรวิโรฒ 
 ประสานมิตร
END:VEVENT
END:VCALENDAR
