BEGIN:VCALENDAR
VERSION:2.0
PRODID:-//chikkutakku.com//RDFCal 1.0//EN
X-WR-CALDESC:GoogleカレンダーやiCalendar形式情報を共有シェ
 アしましょう。近所のイベントから全国のイベントま
 で今日のイベント検索やスケジュールを決めるならち
 っくたっく
X-WR-CALNAME:ちっくたっく
X-WR-TIMEZONE:UTC
BEGIN:VEVENT
SUMMARY:【VRC撫で添い寝イベント】　　　🌸旅館 ‐撫で
 し子‐🌸
DTSTART;VALUE=DATE-TIME:20260422T140000Z
DTEND;VALUE=DATE-TIME:20260422T150000Z
UID:161028415411
DESCRIPTION:【イベント主催者】\n　あへちゃん\n【イベン
 ト内容】\n　和風の旅館で１対１完全個室での接客イベ
 ント\n和服のキャストさんにいっぱい撫でて甘やかして
 もらいながら、寝かしつけも体験できます\nスタッフ巡
 回でのトラブル対応あり\n\nサービス内容：撫で、寝か
 しつけ、お話、添い寝\n公式X：https://x.com/VRC_NADESHIKO\n公
 式タグ：#VRC_撫でし子 \n公式お客様向けディスコードサ
 ーバー：https://discord.gg/f7USMbkG8y\n\n公式PR：\nやさしい灯
 りと心落ち着く和の空間で、緩やかなひと時を… \n当
 旅館では1対1完全個室での癒しを提供させていただきま
 す\nお話・撫で・寝かしつけ・添い寝… ご希望のサー
 ビスを旅館従業員までお申し付けください… \n【イベ
 ントジャンル】\n　店舗系イベント\, 初心者向けイベン
 ト\, 定期イベント\n【参加条件（モデル、人数制限など
 ）】\n　PCVRonly\n【参加方法】\n　22:55～22:57に公式Xに記
 載のインスタンスリーダー迄リクインを2回まで\n他の
 イベントや複数インスタンスへの重複リクイン禁止\n【
 備考】\n　無言勢の方も歓迎
LOCATION:
END:VEVENT
END:VCALENDAR
