BEGIN:VCALENDAR
VERSION:2.0
PRODID:-//chikkutakku.com//RDFCal 1.0//EN
X-WR-CALDESC:GoogleカレンダーやiCalendar形式情報を共有シェ
 アしましょう。近所のイベントから全国のイベントま
 で今日のイベント検索やスケジュールを決めるならち
 っくたっく
X-WR-CALNAME:ちっくたっく
X-WR-TIMEZONE:UTC
BEGIN:VEVENT
SUMMARY:【Android 対応】音読イベント「まるよみっ！」
DTSTART;VALUE=DATE-TIME:20260421T120000Z
DTEND;VALUE=DATE-TIME:20260421T130000Z
UID:161628628645
DESCRIPTION:【イベント主催者】\n　てんしん\n【イベント
 内容】\n　青空文庫の作品を「句点（。）まで読んだら
 次の人へ」という音読のリレーで読むイベントです。\n
 聞くだけの参加も大歓迎なので、お気軽に遊びに来て
 ください。\n【イベントジャンル】\n　その他交流会\n
 【参加条件（モデル、人数制限など）】\n　特にありま
 せん。\n【参加方法】\n　Group＋インスタンスで開催す
 るので、Group：音読イベント『まるよみっ！』（https://v
 rc.group/ONDOKU.3896）にご参加の上、時間になったらインス
 タンスに入ってください。\n【備考】\n　
LOCATION:
END:VEVENT
END:VCALENDAR
