BEGIN:VCALENDAR
VERSION:2.0
PRODID:-//chikkutakku.com//RDFCal 1.0//EN
X-WR-CALDESC:GoogleカレンダーやiCalendar形式情報を共有シェ
 アしましょう。近所のイベントから全国のイベントま
 で今日のイベント検索やスケジュールを決めるならち
 っくたっく
X-WR-CALNAME:ちっくたっく
X-WR-TIMEZONE:UTC
BEGIN:VEVENT
SUMMARY:【注】銀河鉄道999 #50 亡霊トンネル / #51 透明海の
 アルテミス 前編 / #52 透明海のアルテミス 後編 / #53 鏡
 の星の鉄郎 / #54 終わりなき夏の物語 前編 / #55 終わり
 なき夏の物語 後編 / #56 冷血帝国 前編
DTSTART;VALUE=DATE-TIME:20260422T220000Z
DTEND;VALUE=DATE-TIME:20260423T013000Z
UID:162097066738
DESCRIPTION: / #50 亡霊トンネル / #51 透明海のアルテミス 
 前編 / #52 透明海のアルテミス 後編 / #53 鏡の星の鉄郎 /
  #54 終わりなき夏の物語 前編 / #55 終わりなき夏の物語 
 後編 / #56 冷血帝国 前編 / https://abema.tv/channels/80s-anime-1/s
 lots/Art6zzqTvrfzQf リピート放送は 22:30～ https://abema.tv/channe
 ls/80s-anime-1/slots/Aod7J8N6GLiw43 (無料TS1週間) https://prtimes.jp/m
 ain/html/rd/p/000003026.000064643.html
LOCATION:なつかしアニメ80's
END:VEVENT
END:VCALENDAR
