BEGIN:VCALENDAR
VERSION:2.0
PRODID:-//chikkutakku.com//RDFCal 1.0//EN
X-WR-CALDESC:GoogleカレンダーやiCalendar形式情報を共有シェ
 アしましょう。近所のイベントから全国のイベントま
 で今日のイベント検索やスケジュールを決めるならち
 っくたっく
X-WR-CALNAME:ちっくたっく
X-WR-TIMEZONE:UTC
BEGIN:VEVENT
SUMMARY:【まったり深夜カフェ☕】よふかしCafe
DTSTART;VALUE=DATE-TIME:20260425T145000Z
DTEND;VALUE=DATE-TIME:20260425T155000Z
UID:162253517616
DESCRIPTION:【イベント主催者】\n　椎座くや\n【イベント
 内容】\n　よふかしな人のための、穏やかにゆったりと
 すごせるカフェイベント。\n土曜日23:50～24:50の営業で
 す。\nQvPenを導入しておりますので、マイクの無い方も
 お気軽にご参加ください\n【イベントジャンル】\n　店
 舗系イベント\, 定期イベント\n【参加条件（モデル、人
 数制限など）】\n　・過度に巨大なアバターではないこ
 と\n・SNSへ投稿可能なアバターであること\n\n※過度な
 パーティクル、NSFWに該当する行為はお控えください。\
 n※主催者に許可のない動画撮影・配信は禁止します。\
 n【参加方法】\n　グループ『よふかしCafe』へ参加して
 グループインスタンスへjoin\nhttps://vrc.group/CAFE.8620\n【備
 考】\n　https://x.com/cafe_yofukashi
LOCATION:
END:VEVENT
END:VCALENDAR
