BEGIN:VCALENDAR
VERSION:2.0
PRODID:-//chikkutakku.com//RDFCal 1.0//EN
X-WR-CALDESC:GoogleカレンダーやiCalendar形式情報を共有シェ
 アしましょう。近所のイベントから全国のイベントま
 で今日のイベント検索やスケジュールを決めるならち
 っくたっく
X-WR-CALNAME:ちっくたっく
X-WR-TIMEZONE:UTC
BEGIN:VEVENT
SUMMARY:最強の国策ビジネス 「系統用蓄電池」が稼げる
 理由
DTSTART;VALUE=DATE:20260519
DTEND;VALUE=DATE:20260520
UID:162376474353
DESCRIPTION:2026-05-20最強の国策ビジネス 「系統用蓄電池」
 が稼げる理由上野 悟株式会社EneClar
LOCATION:
END:VEVENT
END:VCALENDAR
