BEGIN:VCALENDAR
VERSION:2.0
PRODID:-//chikkutakku.com//RDFCal 1.0//EN
X-WR-CALDESC:GoogleカレンダーやiCalendar形式情報を共有シェ
 アしましょう。近所のイベントから全国のイベントま
 で今日のイベント検索やスケジュールを決めるならち
 っくたっく
X-WR-CALNAME:ちっくたっく
X-WR-TIMEZONE:UTC
BEGIN:VEVENT
SUMMARY:Zine Making
DTSTART;VALUE=DATE-TIME:20260426T000000Z
DTEND;VALUE=DATE-TIME:20260426T030000Z
UID:162638519845
DESCRIPTION:This 3 hour workshop focuses on zine making. Zines are a low t
 ech\, low cost way of self-publishing a small edition of images or texts a
 round a theme.We will look at examples of zines\, then at folding and bind
 ing options and how to create a template and then make our own mini zine.E
 ach zine will be printed in one or two colours on the risograph and each p
 articipant will receive an edition of 10 copies.Book in here: https://wet
 eachme.com/classes/1038307-zine-making
LOCATION:FRONTYARD\, 228 Illawarra Rd\, Marrickville NSW 2204\, Australia
END:VEVENT
END:VCALENDAR
