BEGIN:VCALENDAR
VERSION:2.0
PRODID:-//chikkutakku.com//RDFCal 1.0//EN
X-WR-CALDESC:GoogleカレンダーやiCalendar形式情報を共有シェ
 アしましょう。近所のイベントから全国のイベントま
 で今日のイベント検索やスケジュールを決めるならち
 っくたっく
X-WR-CALNAME:ちっくたっく
X-WR-TIMEZONE:UTC
BEGIN:VEVENT
SUMMARY:【Android 対応】QuizBar「Orifice」
DTSTART;VALUE=DATE-TIME:20260425T114500Z
DTEND;VALUE=DATE-TIME:20260425T140000Z
UID:162775597243
DESCRIPTION:【イベント主催者】\n　りるあいす naminami42\n
 【イベント内容】\n　様々なクイズで遊んでいきません
 か？\nQuizBar「Orifice」はバーのように落ち着いた空間で
 クイズを楽しめるイベントです。途中参加歓迎、途中
 退出可能！\nクイズには興味があるけど触れたことがな
 いという方も気軽にボタンが押せるようになってるの
 で是非遊びに来てね〜！\n【イベントジャンル】\n　そ
 の他交流会\n【参加条件（モデル、人数制限など）】\n
 　日本語話者限定イベントです\n【参加方法】\n　「ORIF
 IC.8337」でグループ検索を行い参加\n【備考】\n　
LOCATION:
END:VEVENT
END:VCALENDAR
