BEGIN:VCALENDAR
VERSION:2.0
PRODID:-//chikkutakku.com//RDFCal 1.0//EN
X-WR-CALDESC:GoogleカレンダーやiCalendar形式情報を共有シェ
 アしましょう。近所のイベントから全国のイベントま
 で今日のイベント検索やスケジュールを決めるならち
 っくたっく
X-WR-CALNAME:ちっくたっく
X-WR-TIMEZONE:UTC
BEGIN:VEVENT
SUMMARY:VRCホストクラブ『Night mist』ラウンジ営業
DTSTART;VALUE=DATE-TIME:20260422T132500Z
DTEND;VALUE=DATE-TIME:20260422T144500Z
UID:162798869569
DESCRIPTION:【イベント主催者】\n　selly_punition\n【イベン
 ト内容】\n　VRCホストクラブ『Night mist』のラウンジ営
 業になります。\n静寂と優雅さが調和する店内で、心に
 残る夢のようなひとときをお楽しみいただけま\nすよう
 、心よりお待ち申し上げております\n【イベントジャン
 ル】\n　店舗系イベント\n【参加条件（モデル、人数制
 限など）】\n　PCVR・デスクトップオンリー\n人型アバタ
 ー推奨\n【参加方法】\n　リクエストインバイト形式を
 採用しております。\n22:25分に『せりーぷんぷん。』に
 リクエストインバイトを1回お願いします。\n当選した
 方にインバイトをお送りするので参加の方よろしくお
 願いします。\n【変更点などの最新情報は公式Xをご確
 認ください。】\n【備考】\n　公式X:https://x.com/NightMist_cl
 ub\nハッシュタグ:#ないみす\nオーナーX:https://x.com/selly_pu
 nition
LOCATION:
END:VEVENT
END:VCALENDAR
