BEGIN:VCALENDAR
VERSION:2.0
PRODID:-//chikkutakku.com//RDFCal 1.0//EN
X-WR-CALDESC:GoogleカレンダーやiCalendar形式情報を共有シェ
 アしましょう。近所のイベントから全国のイベントま
 で今日のイベント検索やスケジュールを決めるならち
 っくたっく
X-WR-CALNAME:ちっくたっく
X-WR-TIMEZONE:UTC
BEGIN:VEVENT
SUMMARY:(19時半)茶光の24ヶ月
DTSTART;VALUE=DATE:20260426
DTEND;VALUE=DATE:20260427
UID:162828670666
DESCRIPTION:出演：笑福亭茶光(60分公演・ネタ三席)\n開場
 ：19時　開演：19時半 \n予約1000円　当日1500円　学生500
 円(要証明書) \nご予約はらくご​カ​フェまで \nrakugocaf
 e@​hotm​ail.co.jp　 \n電話03-6268-9818（​平日​12時～18時
 まで）
LOCATION:
END:VEVENT
END:VCALENDAR
