BEGIN:VCALENDAR
VERSION:2.0
PRODID:-//chikkutakku.com//RDFCal 1.0//EN
X-WR-CALDESC:GoogleカレンダーやiCalendar形式情報を共有シェ
 アしましょう。近所のイベントから全国のイベントま
 で今日のイベント検索やスケジュールを決めるならち
 っくたっく
X-WR-CALNAME:ちっくたっく
X-WR-TIMEZONE:UTC
BEGIN:VEVENT
SUMMARY:雙語部高中招生說明會 (第一場\, 6:30\, B1)
DTSTART;VALUE=DATE-TIME:20260521T223000Z
DTEND;VALUE=DATE-TIME:20260521T233000Z
UID:163832025541
DESCRIPTION:雙語部高中招生說明會 (第一場\, 6:30\, B1)
LOCATION:B1
END:VEVENT
END:VCALENDAR
